BEGIN:VCALENDAR
VERSION:2.0
PRODID:-//I-35 Auctions - ECPv6.15.20//NONSGML v1.0//EN
CALSCALE:GREGORIAN
METHOD:PUBLISH
X-ORIGINAL-URL:https://i35auctions.com
X-WR-CALDESC:Events for I-35 Auctions
REFRESH-INTERVAL;VALUE=DURATION:PT1H
X-Robots-Tag:noindex
X-PUBLISHED-TTL:PT1H
BEGIN:VTIMEZONE
TZID:America/Chicago
BEGIN:DAYLIGHT
TZOFFSETFROM:-0600
TZOFFSETTO:-0500
TZNAME:CDT
DTSTART:20230312T080000
END:DAYLIGHT
BEGIN:STANDARD
TZOFFSETFROM:-0500
TZOFFSETTO:-0600
TZNAME:CST
DTSTART:20231105T070000
END:STANDARD
BEGIN:DAYLIGHT
TZOFFSETFROM:-0600
TZOFFSETTO:-0500
TZNAME:CDT
DTSTART:20240310T080000
END:DAYLIGHT
BEGIN:STANDARD
TZOFFSETFROM:-0500
TZOFFSETTO:-0600
TZNAME:CST
DTSTART:20241103T070000
END:STANDARD
BEGIN:DAYLIGHT
TZOFFSETFROM:-0600
TZOFFSETTO:-0500
TZNAME:CDT
DTSTART:20250309T080000
END:DAYLIGHT
BEGIN:STANDARD
TZOFFSETFROM:-0500
TZOFFSETTO:-0600
TZNAME:CST
DTSTART:20251102T070000
END:STANDARD
END:VTIMEZONE
BEGIN:VEVENT
DTSTART;TZID=America/Chicago:20240228T183500
DTEND;TZID=America/Chicago:20240228T193000
DTSTAMP:20260425T093327
CREATED:20240220T210035Z
LAST-MODIFIED:20240220T210338Z
UID:737-1709145300-1709148600@i35auctions.com
SUMMARY:Skid Steer Attachments and More / Wolverine\, Landhonor\, Landhero\, Paladin
DESCRIPTION:Featuring a huge selection of skid loader attachments to get you ready for spring! From a brand new mini skid steer\, graders\, levelers\, concrete mixers\, grapples\, brush cutters and backhoes… the list is long. Also included are three brand new hydraulic tanks\, anvils\, cargo straps and so much more!
URL:https://i35auctions.com/event/skid-steer-attachments-and-more-wolverine-landhonor-landhero-paladin/
CATEGORIES:Auction Live
ATTACH;FMTTYPE=image/jpeg:https://i35auctions.com/wp-content/uploads/2024/02/23834971-1.jpg
END:VEVENT
END:VCALENDAR