BEGIN:VCALENDAR
VERSION:2.0
PRODID:-//I-35 Auctions - ECPv6.15.20//NONSGML v1.0//EN
CALSCALE:GREGORIAN
METHOD:PUBLISH
X-WR-CALNAME:I-35 Auctions
X-ORIGINAL-URL:https://i35auctions.com
X-WR-CALDESC:Events for I-35 Auctions
REFRESH-INTERVAL;VALUE=DURATION:PT1H
X-Robots-Tag:noindex
X-PUBLISHED-TTL:PT1H
BEGIN:VTIMEZONE
TZID:America/Chicago
BEGIN:DAYLIGHT
TZOFFSETFROM:-0600
TZOFFSETTO:-0500
TZNAME:CDT
DTSTART:20230312T080000
END:DAYLIGHT
BEGIN:STANDARD
TZOFFSETFROM:-0500
TZOFFSETTO:-0600
TZNAME:CST
DTSTART:20231105T070000
END:STANDARD
BEGIN:DAYLIGHT
TZOFFSETFROM:-0600
TZOFFSETTO:-0500
TZNAME:CDT
DTSTART:20240310T080000
END:DAYLIGHT
BEGIN:STANDARD
TZOFFSETFROM:-0500
TZOFFSETTO:-0600
TZNAME:CST
DTSTART:20241103T070000
END:STANDARD
BEGIN:DAYLIGHT
TZOFFSETFROM:-0600
TZOFFSETTO:-0500
TZNAME:CDT
DTSTART:20250309T080000
END:DAYLIGHT
BEGIN:STANDARD
TZOFFSETFROM:-0500
TZOFFSETTO:-0600
TZNAME:CST
DTSTART:20251102T070000
END:STANDARD
END:VTIMEZONE
BEGIN:VEVENT
DTSTART;TZID=America/Chicago:20240418T193500
DTEND;TZID=America/Chicago:20240418T210000
DTSTAMP:20260425T073957
CREATED:20240307T131318Z
LAST-MODIFIED:20240411T165024Z
UID:929-1713468900-1713474000@i35auctions.com
SUMMARY:Spring '24 Machinery Farmer Owned Consignment Auction - Austin\, MN
DESCRIPTION:I-35 Auctions is conducting a spring farm and construction equipment online auction 5 miles west of Austin\, MN on County Hwy 25. \nVenue: County Line Sales\, 90507 240th St.\, Austin\, MN 55912. \nAll bidding to be held online only. \nFor information on consigning to future auctions at this location\, call 507-444-1500
URL:https://i35auctions.com/event/county-line-spring-2024/
CATEGORIES:Auction Live
ATTACH;FMTTYPE=image/png:https://i35auctions.com/wp-content/uploads/2024/03/Screen-Shot-2024-03-20-at-4.22.00-PM.png
END:VEVENT
END:VCALENDAR