BEGIN:VCALENDAR
VERSION:2.0
PRODID:-//I-35 Auctions - ECPv6.15.20//NONSGML v1.0//EN
CALSCALE:GREGORIAN
METHOD:PUBLISH
X-ORIGINAL-URL:https://i35auctions.com
X-WR-CALDESC:Events for I-35 Auctions
REFRESH-INTERVAL;VALUE=DURATION:PT1H
X-Robots-Tag:noindex
X-PUBLISHED-TTL:PT1H
BEGIN:VTIMEZONE
TZID:America/Chicago
BEGIN:DAYLIGHT
TZOFFSETFROM:-0600
TZOFFSETTO:-0500
TZNAME:CDT
DTSTART:20230312T080000
END:DAYLIGHT
BEGIN:STANDARD
TZOFFSETFROM:-0500
TZOFFSETTO:-0600
TZNAME:CST
DTSTART:20231105T070000
END:STANDARD
BEGIN:DAYLIGHT
TZOFFSETFROM:-0600
TZOFFSETTO:-0500
TZNAME:CDT
DTSTART:20240310T080000
END:DAYLIGHT
BEGIN:STANDARD
TZOFFSETFROM:-0500
TZOFFSETTO:-0600
TZNAME:CST
DTSTART:20241103T070000
END:STANDARD
BEGIN:DAYLIGHT
TZOFFSETFROM:-0600
TZOFFSETTO:-0500
TZNAME:CDT
DTSTART:20250309T080000
END:DAYLIGHT
BEGIN:STANDARD
TZOFFSETFROM:-0500
TZOFFSETTO:-0600
TZNAME:CST
DTSTART:20251102T070000
END:STANDARD
END:VTIMEZONE
BEGIN:VEVENT
DTSTART;TZID=America/Chicago:20240508T193500
DTEND;TZID=America/Chicago:20240508T203500
DTSTAMP:20260425T060414
CREATED:20231109T232623Z
LAST-MODIFIED:20240430T132436Z
UID:664-1715196900-1715200500@i35auctions.com
SUMMARY:Tofte Firearms Consignment Auction - Clear Lake\, IA
DESCRIPTION:Long guns\, pistols\, ammo\, archery\, knives and accessories welcome. \nConsignments for this month are now closed. Consignments are now being taken for our next auction in June.
URL:https://i35auctions.com/event/gun-consignment-auction/
CATEGORIES:Auction Live
ATTACH;FMTTYPE=image/png:https://i35auctions.com/wp-content/uploads/2024/04/Tofte-Firearms-Consignment-Auction-Post-may-2024-2.png
END:VEVENT
END:VCALENDAR