BEGIN:VCALENDAR
VERSION:2.0
PRODID:-//I-35 Auctions - ECPv6.15.20//NONSGML v1.0//EN
CALSCALE:GREGORIAN
METHOD:PUBLISH
X-ORIGINAL-URL:https://i35auctions.com
X-WR-CALDESC:Events for I-35 Auctions
REFRESH-INTERVAL;VALUE=DURATION:PT1H
X-Robots-Tag:noindex
X-PUBLISHED-TTL:PT1H
BEGIN:VTIMEZONE
TZID:America/Chicago
BEGIN:DAYLIGHT
TZOFFSETFROM:-0600
TZOFFSETTO:-0500
TZNAME:CDT
DTSTART:20240310T080000
END:DAYLIGHT
BEGIN:STANDARD
TZOFFSETFROM:-0500
TZOFFSETTO:-0600
TZNAME:CST
DTSTART:20241103T070000
END:STANDARD
BEGIN:DAYLIGHT
TZOFFSETFROM:-0600
TZOFFSETTO:-0500
TZNAME:CDT
DTSTART:20250309T080000
END:DAYLIGHT
BEGIN:STANDARD
TZOFFSETFROM:-0500
TZOFFSETTO:-0600
TZNAME:CST
DTSTART:20251102T070000
END:STANDARD
BEGIN:DAYLIGHT
TZOFFSETFROM:-0600
TZOFFSETTO:-0500
TZNAME:CDT
DTSTART:20260308T080000
END:DAYLIGHT
BEGIN:STANDARD
TZOFFSETFROM:-0500
TZOFFSETTO:-0600
TZNAME:CST
DTSTART:20261101T070000
END:STANDARD
END:VTIMEZONE
BEGIN:VEVENT
DTSTART;TZID=America/Chicago:20250709T193500
DTEND;TZID=America/Chicago:20250709T204500
DTSTAMP:20260424T043610
CREATED:20250527T210834Z
LAST-MODIFIED:20250707T122157Z
UID:1478-1752089700-1752093900@i35auctions.com
SUMMARY:AGT Industrial Container Auction
DESCRIPTION:Unused assorted skid steer attachments\, mini excavators and single trip 40HC foot container. \n 
URL:https://i35auctions.com/event/equipment-auction/
CATEGORIES:Auction Live
ATTACH;FMTTYPE=image/png:https://i35auctions.com/wp-content/uploads/2025/05/Screenshot-2025-06-27-at-7.13.08 AM.png
END:VEVENT
END:VCALENDAR