BEGIN:VCALENDAR
VERSION:2.0
PRODID:-//I-35 Auctions - ECPv6.15.20//NONSGML v1.0//EN
CALSCALE:GREGORIAN
METHOD:PUBLISH
X-ORIGINAL-URL:https://i35auctions.com
X-WR-CALDESC:Events for I-35 Auctions
REFRESH-INTERVAL;VALUE=DURATION:PT1H
X-Robots-Tag:noindex
X-PUBLISHED-TTL:PT1H
BEGIN:VTIMEZONE
TZID:America/Chicago
BEGIN:DAYLIGHT
TZOFFSETFROM:-0600
TZOFFSETTO:-0500
TZNAME:CDT
DTSTART:20240310T080000
END:DAYLIGHT
BEGIN:STANDARD
TZOFFSETFROM:-0500
TZOFFSETTO:-0600
TZNAME:CST
DTSTART:20241103T070000
END:STANDARD
BEGIN:DAYLIGHT
TZOFFSETFROM:-0600
TZOFFSETTO:-0500
TZNAME:CDT
DTSTART:20250309T080000
END:DAYLIGHT
BEGIN:STANDARD
TZOFFSETFROM:-0500
TZOFFSETTO:-0600
TZNAME:CST
DTSTART:20251102T070000
END:STANDARD
BEGIN:DAYLIGHT
TZOFFSETFROM:-0600
TZOFFSETTO:-0500
TZNAME:CDT
DTSTART:20260308T080000
END:DAYLIGHT
BEGIN:STANDARD
TZOFFSETFROM:-0500
TZOFFSETTO:-0600
TZNAME:CST
DTSTART:20261101T070000
END:STANDARD
END:VTIMEZONE
BEGIN:VEVENT
DTSTART;TZID=America/Chicago:20250923T193500
DTEND;TZID=America/Chicago:20250923T204500
DTSTAMP:20260424T015209
CREATED:20250527T203359Z
LAST-MODIFIED:20250917T205609Z
UID:1470-1758656100-1758660300@i35auctions.com
SUMMARY:Professional Tools: Save on SnapOn\, Matco\, Mac\, Central Tools
DESCRIPTION:🔧 Professional Tools Blow-Out Auction — Don’t Miss It!\nWhat’s Up for Grabs: \n\n\nA career-long\, curated collection of automotive & heavy-equipment repair tools\, many still in their original boxes. \n\n\nBrands you know\, trust\, and want: Snap-On\, Matco\, Mac\, Central Tools and more. \n\n\nTons of categories: power tools\, hand tools\, shop equipment\, metal fabrication tools\, material handling/storage\, automotive accessories\, even outdoor & patio gear.
URL:https://i35auctions.com/event/mechanic-tools-equipment-auction/
CATEGORIES:Auction Live
ATTACH;FMTTYPE=image/png:https://i35auctions.com/wp-content/uploads/2025/05/Screenshot-2025-06-27-at-7.28.21 AM.png
END:VEVENT
END:VCALENDAR