BEGIN:VCALENDAR
VERSION:2.0
PRODID:-//I-35 Auctions - ECPv6.15.20//NONSGML v1.0//EN
CALSCALE:GREGORIAN
METHOD:PUBLISH
X-WR-CALNAME:I-35 Auctions
X-ORIGINAL-URL:https://i35auctions.com
X-WR-CALDESC:Events for I-35 Auctions
REFRESH-INTERVAL;VALUE=DURATION:PT1H
X-Robots-Tag:noindex
X-PUBLISHED-TTL:PT1H
BEGIN:VTIMEZONE
TZID:America/Chicago
BEGIN:DAYLIGHT
TZOFFSETFROM:-0600
TZOFFSETTO:-0500
TZNAME:CDT
DTSTART:20220313T080000
END:DAYLIGHT
BEGIN:STANDARD
TZOFFSETFROM:-0500
TZOFFSETTO:-0600
TZNAME:CST
DTSTART:20221106T070000
END:STANDARD
BEGIN:DAYLIGHT
TZOFFSETFROM:-0600
TZOFFSETTO:-0500
TZNAME:CDT
DTSTART:20230312T080000
END:DAYLIGHT
BEGIN:STANDARD
TZOFFSETFROM:-0500
TZOFFSETTO:-0600
TZNAME:CST
DTSTART:20231105T070000
END:STANDARD
BEGIN:DAYLIGHT
TZOFFSETFROM:-0600
TZOFFSETTO:-0500
TZNAME:CDT
DTSTART:20240310T080000
END:DAYLIGHT
BEGIN:STANDARD
TZOFFSETFROM:-0500
TZOFFSETTO:-0600
TZNAME:CST
DTSTART:20241103T070000
END:STANDARD
END:VTIMEZONE
BEGIN:VEVENT
DTSTART;TZID=America/Chicago:20231206T183000
DTEND;TZID=America/Chicago:20231206T203000
DTSTAMP:20260425T123937
CREATED:20231025T165224Z
LAST-MODIFIED:20231122T023025Z
UID:630-1701887400-1701894600@i35auctions.com
SUMMARY:Mach III Screenprinting Business Liquidation
DESCRIPTION:Professional screen printing firm\, Mach III\, in Mason City\, Iowa\, announces their business retirement sale. Closing date is Wednesday\, December 6th beginning at 6:30pm.
URL:https://i35auctions.com/event/mach_iii/
CATEGORIES:Auction Live
ATTACH;FMTTYPE=image/png:https://i35auctions.com/wp-content/uploads/2023/10/Screen-Shot-2023-11-21-at-8.29.00-PM.png
END:VEVENT
BEGIN:VEVENT
DTSTART;VALUE=DATE:20231214
DTEND;VALUE=DATE:20231215
DTSTAMP:20260425T123937
CREATED:20231020T143350Z
LAST-MODIFIED:20231203T134305Z
UID:598-1702512000-1702598399@i35auctions.com
SUMMARY:FALL INTO SAVINGS: Shop / Construction / Automotive
DESCRIPTION:Consigned items include backhoe attachment\, bridge timbers\, steel culverts\, guardrails\, Case backhoe\, metal lathe\, pressure washer\, parts washer\, hoists\, power screed\, large fuel containment reservoir\, poly tanks\, parts drawers\, forklift lp tanks\, assorted tools\, home improvement items and more. \nOther items include a Whirlpool washer and dryer set and several snowblowers.
URL:https://i35auctions.com/event/shop-construction-auction/
CATEGORIES:Auction Live
ATTACH;FMTTYPE=image/png:https://i35auctions.com/wp-content/uploads/2023/10/Screen-Shot-2023-11-21-at-8.14.27-PM.png
END:VEVENT
BEGIN:VEVENT
DTSTART;TZID=America/Chicago:20231218T195000
DTEND;TZID=America/Chicago:20231218T210000
DTSTAMP:20260425T123937
CREATED:20231104T140232Z
LAST-MODIFIED:20231210T141024Z
UID:656-1702929000-1702933200@i35auctions.com
SUMMARY:Antiques and Vintage: A Celebration of Old Time Traditions
DESCRIPTION:Antiques\, vintage and antique furniture\, dolls\, household and other estate items from multiple consignors. \nPick up location at 100 S 24th St\, Clear Lake\, IA 50428
URL:https://i35auctions.com/event/antiques-vintage-traditions/
CATEGORIES:Auction Live
ATTACH;FMTTYPE=image/png:https://i35auctions.com/wp-content/uploads/2023/11/Screen-Shot-2023-12-10-at-8.07.23-AM.png
END:VEVENT
END:VCALENDAR