BEGIN:VCALENDAR
VERSION:2.0
PRODID:-//I-35 Auctions - ECPv6.15.20//NONSGML v1.0//EN
CALSCALE:GREGORIAN
METHOD:PUBLISH
X-ORIGINAL-URL:https://i35auctions.com
X-WR-CALDESC:Events for I-35 Auctions
REFRESH-INTERVAL;VALUE=DURATION:PT1H
X-Robots-Tag:noindex
X-PUBLISHED-TTL:PT1H
BEGIN:VTIMEZONE
TZID:America/Chicago
BEGIN:DAYLIGHT
TZOFFSETFROM:-0600
TZOFFSETTO:-0500
TZNAME:CDT
DTSTART:20230312T080000
END:DAYLIGHT
BEGIN:STANDARD
TZOFFSETFROM:-0500
TZOFFSETTO:-0600
TZNAME:CST
DTSTART:20231105T070000
END:STANDARD
BEGIN:DAYLIGHT
TZOFFSETFROM:-0600
TZOFFSETTO:-0500
TZNAME:CDT
DTSTART:20240310T080000
END:DAYLIGHT
BEGIN:STANDARD
TZOFFSETFROM:-0500
TZOFFSETTO:-0600
TZNAME:CST
DTSTART:20241103T070000
END:STANDARD
BEGIN:DAYLIGHT
TZOFFSETFROM:-0600
TZOFFSETTO:-0500
TZNAME:CDT
DTSTART:20250309T080000
END:DAYLIGHT
BEGIN:STANDARD
TZOFFSETFROM:-0500
TZOFFSETTO:-0600
TZNAME:CST
DTSTART:20251102T070000
END:STANDARD
END:VTIMEZONE
BEGIN:VEVENT
DTSTART;TZID=America/Chicago:20241001T193500
DTEND;TZID=America/Chicago:20241001T210000
DTSTAMP:20260424T215241
CREATED:20240825T163422Z
LAST-MODIFIED:20240914T173239Z
UID:1274-1727811300-1727816400@i35auctions.com
SUMMARY:Craftsman’s Workshop
DESCRIPTION:This will be a living estate auction for a Mower County area resident. \n\nJohn Deere lawn tractor\nDewalt miter saw\nLincoln stick welder\nLincoln wire feed welder\nCraftsman planer-moulder\nmilling machine\nbandsaw\nupright drill\nCraftsman jointer\nupright air compressor\nlarge meat smoker\nleaf blowers\nvarious trimmers\nchainsaw\nyard sprayers\ngarden tiller\nGenerator\nGarage heaters\nlots of garage items and woodworking tools\n\nAustin\, Minnesota \n  \n 
URL:https://i35auctions.com/event/austin-mn-living-estate-fall-2024/
CATEGORIES:Auction Live
ATTACH;FMTTYPE=image/png:https://i35auctions.com/wp-content/uploads/2024/08/Screenshot-2024-09-14-at-12.30.45 PM.png
END:VEVENT
END:VCALENDAR