BEGIN:VCALENDAR
VERSION:2.0
PRODID:-//I-35 Auctions - ECPv6.15.20//NONSGML v1.0//EN
CALSCALE:GREGORIAN
METHOD:PUBLISH
X-ORIGINAL-URL:https://i35auctions.com
X-WR-CALDESC:Events for I-35 Auctions
REFRESH-INTERVAL;VALUE=DURATION:PT1H
X-Robots-Tag:noindex
X-PUBLISHED-TTL:PT1H
BEGIN:VTIMEZONE
TZID:America/Chicago
BEGIN:DAYLIGHT
TZOFFSETFROM:-0600
TZOFFSETTO:-0500
TZNAME:CDT
DTSTART:20240310T080000
END:DAYLIGHT
BEGIN:STANDARD
TZOFFSETFROM:-0500
TZOFFSETTO:-0600
TZNAME:CST
DTSTART:20241103T070000
END:STANDARD
BEGIN:DAYLIGHT
TZOFFSETFROM:-0600
TZOFFSETTO:-0500
TZNAME:CDT
DTSTART:20250309T080000
END:DAYLIGHT
BEGIN:STANDARD
TZOFFSETFROM:-0500
TZOFFSETTO:-0600
TZNAME:CST
DTSTART:20251102T070000
END:STANDARD
BEGIN:DAYLIGHT
TZOFFSETFROM:-0600
TZOFFSETTO:-0500
TZNAME:CDT
DTSTART:20260308T080000
END:DAYLIGHT
BEGIN:STANDARD
TZOFFSETFROM:-0500
TZOFFSETTO:-0600
TZNAME:CST
DTSTART:20261101T070000
END:STANDARD
END:VTIMEZONE
BEGIN:VEVENT
DTSTART;TZID=America/Chicago:20250611T193500
DTEND;TZID=America/Chicago:20250611T203000
DTSTAMP:20260424T071926
CREATED:20250605T165824Z
LAST-MODIFIED:20250605T170352Z
UID:1486-1749670500-1749673800@i35auctions.com
SUMMARY:All Remaining Inventory of Wolverine and Landhonor Attachments
DESCRIPTION:Attachments\, motorized equipment and more \nTHIS APPEARS TO BE THE LAST LOAD FOR AWHILE \nLocal consignments\, too.
URL:https://i35auctions.com/event/wolverine-landhonor-attachments/
CATEGORIES:Auction Live
ATTACH;FMTTYPE=image/png:https://i35auctions.com/wp-content/uploads/2025/06/Screenshot-2025-06-05-at-12.01.24 PM.png
END:VEVENT
END:VCALENDAR