BEGIN:VCALENDAR
VERSION:2.0
PRODID:-//I-35 Auctions - ECPv6.15.20//NONSGML v1.0//EN
CALSCALE:GREGORIAN
METHOD:PUBLISH
X-WR-CALNAME:I-35 Auctions
X-ORIGINAL-URL:https://i35auctions.com
X-WR-CALDESC:Events for I-35 Auctions
REFRESH-INTERVAL;VALUE=DURATION:PT1H
X-Robots-Tag:noindex
X-PUBLISHED-TTL:PT1H
BEGIN:VTIMEZONE
TZID:America/Chicago
BEGIN:DAYLIGHT
TZOFFSETFROM:-0600
TZOFFSETTO:-0500
TZNAME:CDT
DTSTART:20250309T080000
END:DAYLIGHT
BEGIN:STANDARD
TZOFFSETFROM:-0500
TZOFFSETTO:-0600
TZNAME:CST
DTSTART:20251102T070000
END:STANDARD
BEGIN:DAYLIGHT
TZOFFSETFROM:-0600
TZOFFSETTO:-0500
TZNAME:CDT
DTSTART:20260308T080000
END:DAYLIGHT
BEGIN:STANDARD
TZOFFSETFROM:-0500
TZOFFSETTO:-0600
TZNAME:CST
DTSTART:20261101T070000
END:STANDARD
BEGIN:DAYLIGHT
TZOFFSETFROM:-0600
TZOFFSETTO:-0500
TZNAME:CDT
DTSTART:20270314T080000
END:DAYLIGHT
BEGIN:STANDARD
TZOFFSETFROM:-0500
TZOFFSETTO:-0600
TZNAME:CST
DTSTART:20271107T070000
END:STANDARD
END:VTIMEZONE
BEGIN:VEVENT
DTSTART;TZID=America/Chicago:20260126T191500
DTEND;TZID=America/Chicago:20260126T203000
DTSTAMP:20260424T015208
CREATED:20260101T123835Z
LAST-MODIFIED:20260120T120012Z
UID:1557-1769454900-1769459400@i35auctions.com
SUMMARY:Hawkeye State Equipment Showdown – Iowa Yard
DESCRIPTION:This is the IOWA EDITION of a 2-part auction\, in cooperation with the County Line Sales auction yard at Austin. For the Minnesota auction\, here is that link: https://www.k-bid.com/auction/62729 \n********************* \nHawkeye State Equipment Showdown: the Iowa auction is packed with high-demand equipment\, making it a strong opportunity for contractors\, business owners\, land owners and serious DIYers alike. Buyers will find a broad mix of new\, unused\, and lightly used equipment across the following categories: \n\nAttachments – A wide selection of skid steer and tractor attachments including bale spears\, auger attachments\, forks\, buckets\, and more to expand the capability of your equipment.\nPower Tools & Shop Equipment – Essential tools for any shop or jobsite\, including air impact wrenches\, compressors\, hydraulic presses\, saws\, and other must-have shop gear.\nStorage & Buildings – Practical solutions for equipment and material storage\, featuring metal carports\, sheds\, containers\, and other outdoor structures.\nGarage Items & Automotive Accessories – Outfitting your garage is easy with automotive accessories\, shop equipment\, and vehicle-related items offered throughout the sale.\nConstruction & Material Handling Equipment – Equipment designed to move\, lift\, and build\, including compact construction equipment and material handling solutions for the jobsite.\nLawn & Landscaping Items – Tools and equipment to maintain properties\, improve grounds\, and handle seasonal outdoor work efficiently.\nFarm Implements & Supplies – Agricultural attachments and supplies\, including specialty items like skid steer seeders\, built for productivity in the field.
URL:https://i35auctions.com/event/jan-equip-auction/
CATEGORIES:Auction Live
END:VEVENT
BEGIN:VEVENT
DTSTART;TZID=America/Chicago:20260325T193500
DTEND;TZID=America/Chicago:20260325T210000
DTSTAMP:20260424T015208
CREATED:20260317T121729Z
LAST-MODIFIED:20260317T122326Z
UID:1562-1774467300-1774472400@i35auctions.com
SUMMARY:March Mega Savings
DESCRIPTION:Custom Semi Camper \nMini excavators (diesel\, ready to dig) \nGolf carts (fully loaded\, luxury 6-seaters) \nSkid steer attachments & jobsite equipment \nShipping containers & storage solutions \nTruck parts\, accessories & shop items \nBuildings\, sheds & more
URL:https://i35auctions.com/event/march-mega-savings/
CATEGORIES:Auction Live
ATTACH;FMTTYPE=image/png:https://i35auctions.com/wp-content/uploads/2026/03/semi-truck-camper.png
END:VEVENT
BEGIN:VEVENT
DTSTART;TZID=America/Chicago:20260415T193500
DTEND;TZID=America/Chicago:20260415T203000
DTSTAMP:20260424T015208
CREATED:20260411T060440Z
LAST-MODIFIED:20260411T060440Z
UID:1567-1776281700-1776285000@i35auctions.com
SUMMARY:Wolverine/Landhonor Spring Equipment Auction
DESCRIPTION:
URL:https://i35auctions.com/event/wolverine-landhonor-spring-equipment-auction/
CATEGORIES:Auction Live
END:VEVENT
BEGIN:VEVENT
DTSTART;TZID=America/Chicago:20260513T193500
DTEND;TZID=America/Chicago:20260513T210000
DTSTAMP:20260424T015208
CREATED:20260420T104907Z
LAST-MODIFIED:20260420T104907Z
UID:1570-1778700900-1778706000@i35auctions.com
SUMMARY:May Consignment Auction
DESCRIPTION:Now taking consignments for the May 13th online auction \n\nequipment\nmachinery\ntools\nguns\nrecreational items\nvehicles\, etc
URL:https://i35auctions.com/event/may-consignment-auction/
CATEGORIES:Auction Pending
END:VEVENT
END:VCALENDAR