BEGIN:VCALENDAR
VERSION:2.0
PRODID:-//I-35 Auctions - ECPv6.15.20//NONSGML v1.0//EN
CALSCALE:GREGORIAN
METHOD:PUBLISH
X-WR-CALNAME:I-35 Auctions
X-ORIGINAL-URL:https://i35auctions.com
X-WR-CALDESC:Events for I-35 Auctions
REFRESH-INTERVAL;VALUE=DURATION:PT1H
X-Robots-Tag:noindex
X-PUBLISHED-TTL:PT1H
BEGIN:VTIMEZONE
TZID:America/Chicago
BEGIN:DAYLIGHT
TZOFFSETFROM:-0600
TZOFFSETTO:-0500
TZNAME:CDT
DTSTART:20230312T080000
END:DAYLIGHT
BEGIN:STANDARD
TZOFFSETFROM:-0500
TZOFFSETTO:-0600
TZNAME:CST
DTSTART:20231105T070000
END:STANDARD
BEGIN:DAYLIGHT
TZOFFSETFROM:-0600
TZOFFSETTO:-0500
TZNAME:CDT
DTSTART:20240310T080000
END:DAYLIGHT
BEGIN:STANDARD
TZOFFSETFROM:-0500
TZOFFSETTO:-0600
TZNAME:CST
DTSTART:20241103T070000
END:STANDARD
BEGIN:DAYLIGHT
TZOFFSETFROM:-0600
TZOFFSETTO:-0500
TZNAME:CDT
DTSTART:20250309T080000
END:DAYLIGHT
BEGIN:STANDARD
TZOFFSETFROM:-0500
TZOFFSETTO:-0600
TZNAME:CST
DTSTART:20251102T070000
END:STANDARD
BEGIN:DAYLIGHT
TZOFFSETFROM:-0600
TZOFFSETTO:-0500
TZNAME:CDT
DTSTART:20260308T080000
END:DAYLIGHT
BEGIN:STANDARD
TZOFFSETFROM:-0500
TZOFFSETTO:-0600
TZNAME:CST
DTSTART:20261101T070000
END:STANDARD
END:VTIMEZONE
BEGIN:VEVENT
DTSTART;TZID=America/Chicago:20250414T200500
DTEND;TZID=America/Chicago:20250414T203500
DTSTAMP:20260423T170815
CREATED:20250330T234016Z
LAST-MODIFIED:20250330T234201Z
UID:1431-1744661100-1744662900@i35auctions.com
SUMMARY:Firearms Auction: revolvers\, rifles & shotguns
DESCRIPTION:Small estate collection of Winchester\, Rock Island Arsenal\, Smith & Wesson and more. \nTofte Firearms is the firearms dealer handling NICS checks and transfers.
URL:https://i35auctions.com/event/april-revolvers-rifles-shotguns/
CATEGORIES:Auction Live
ATTACH;FMTTYPE=image/png:https://i35auctions.com/wp-content/uploads/2025/03/Screen-Shot-2025-03-28-at-5.46.25-PM.png
END:VEVENT
BEGIN:VEVENT
DTSTART;TZID=America/Chicago:20250402T193500
DTEND;TZID=America/Chicago:20250402T205900
DTSTAMP:20260423T170815
CREATED:20250108T152234Z
LAST-MODIFIED:20250324T150942Z
UID:1394-1743622500-1743627540@i35auctions.com
SUMMARY:Southern MN Equipment Auction @ County Line Sales
DESCRIPTION:Lots of attachments and other unused equipment. \nNow taking consignments for the next consignment auction at Austin\, Minnesota planned for April 30th \nConstruction – farm equipment – shop equipment – motor vehicles – heavy machinery \n 
URL:https://i35auctions.com/event/freeborn-county-auction-march/
CATEGORIES:Auction Live
ATTACH;FMTTYPE=image/png:https://i35auctions.com/wp-content/uploads/2024/12/Screen-Shot-2024-12-09-at-12.46.46-PM.png
END:VEVENT
BEGIN:VEVENT
DTSTART;TZID=America/Chicago:20250312T193500
DTEND;TZID=America/Chicago:20250312T203000
DTSTAMP:20260423T170815
CREATED:20250206T120808Z
LAST-MODIFIED:20250309T135350Z
UID:1422-1741808100-1741811400@i35auctions.com
SUMMARY:Factory Direct Construction Equipment and Attachments @ Clear Lake Yard
DESCRIPTION:Large selection of attachments and other equipment straight from the factory.
URL:https://i35auctions.com/event/attachments-excavator-skid-steer/
CATEGORIES:Auction Live
ATTACH;FMTTYPE=image/png:https://i35auctions.com/wp-content/uploads/2025/02/Screen-Shot-2025-03-09-at-8.49.55-AM.png
END:VEVENT
BEGIN:VEVENT
DTSTART;TZID=America/Chicago:20250217T203500
DTEND;TZID=America/Chicago:20250217T211500
DTSTAMP:20260423T170815
CREATED:20250206T115956Z
LAST-MODIFIED:20250206T120202Z
UID:1419-1739824500-1739826900@i35auctions.com
SUMMARY:Big Savings on Power Tools\, Etc
DESCRIPTION:Clean selection of new and like new power tools\, hand tools and garage items from area consignors as well as truckload liquidations.
URL:https://i35auctions.com/event/big-savings-on-power-tools-etc/
CATEGORIES:Auction Live
END:VEVENT
BEGIN:VEVENT
DTSTART;TZID=America/Chicago:20250217T193500
DTEND;TZID=America/Chicago:20250217T205500
DTSTAMP:20260423T170815
CREATED:20250101T145136Z
LAST-MODIFIED:20250206T120936Z
UID:1384-1739820900-1739825700@i35auctions.com
SUMMARY:Dig These Savings - February Equipment Auction @ Clear Lake Yard
DESCRIPTION:FEBRUARY EQUIPMENT – WOLVERINE / MIVA / AGT \n\nAttachments\nShipping Containers\nMini Excavators\nTrack Loaders\nFencing\n\nHuge auction with over 130 lots to bid on and buy!
URL:https://i35auctions.com/event/february-2025-equipment-auction-clear-lake/
CATEGORIES:Auction Live
ATTACH;FMTTYPE=image/png:https://i35auctions.com/wp-content/uploads/2025/01/Screen-Shot-2025-02-05-at-7.41.43-AM.png
END:VEVENT
BEGIN:VEVENT
DTSTART;TZID=America/Chicago:20250210T193500
DTEND;TZID=America/Chicago:20250210T203000
DTSTAMP:20260423T170815
CREATED:20250110T222544Z
LAST-MODIFIED:20250206T115625Z
UID:1406-1739216100-1739219400@i35auctions.com
SUMMARY:Cryo Spa/Fitness Center Closing
DESCRIPTION:Auction taking place in February 2025 with pickup at Clear Lake \nProfessional grade treadmills\, stair climber\, upright bike\, etc \nCryo spa items\, including cryotherapy machine\, body shaper\, Cryoniq nitrogen cryo chamber\, Penguin cryofacial machine\, etc
URL:https://i35auctions.com/event/cryo-spa-fitness/
CATEGORIES:Auction Live
ATTACH;FMTTYPE=image/png:https://i35auctions.com/wp-content/uploads/2025/01/Cryo-Fitness-auction-2.png
END:VEVENT
BEGIN:VEVENT
DTSTART;TZID=America/Chicago:20250123T194000
DTEND;TZID=America/Chicago:20250123T203000
DTSTAMP:20260423T170815
CREATED:20250120T132327Z
LAST-MODIFIED:20250120T133107Z
UID:1409-1737661200-1737664200@i35auctions.com
SUMMARY:Big Discounts on Power Tools (and more)
DESCRIPTION:Auction closes January 23rd – Milwaukee\, Dewalt\, Delta \nPower tools\, hand tools\, countertop production tools \nRemoval Saturday morning
URL:https://i35auctions.com/event/power-tools-auction-january/
CATEGORIES:Auction Live
ATTACH;FMTTYPE=image/png:https://i35auctions.com/wp-content/uploads/2025/01/Screen-Shot-2025-01-20-at-7.17.07-AM.png
END:VEVENT
BEGIN:VEVENT
DTSTART;TZID=America/Chicago:20250121T200000
DTEND;TZID=America/Chicago:20250121T201500
DTSTAMP:20260423T170815
CREATED:20250108T132715Z
LAST-MODIFIED:20250108T132715Z
UID:1387-1737489600-1737490500@i35auctions.com
SUMMARY:W10x49 x 25’ Steel Beams
DESCRIPTION:This auction in Ankeny\, Iowa is for used steel I-beams left over from a shoring project. Please follow the link below to access bidding. \nwide flange beams \nW10x49
URL:https://i35auctions.com/event/ankeny-steel/
CATEGORIES:Auction Live
ATTACH;FMTTYPE=image/jpeg:https://i35auctions.com/wp-content/uploads/2025/01/27836996.jpg
END:VEVENT
BEGIN:VEVENT
DTSTART;TZID=America/Chicago:20250113T193500
DTEND;TZID=America/Chicago:20250113T202000
DTSTAMP:20260423T170815
CREATED:20241210T201745Z
LAST-MODIFIED:20250108T133906Z
UID:1374-1736796900-1736799600@i35auctions.com
SUMMARY:Restaurant Consignment Auction / Story & Cerro Gordo Cos
DESCRIPTION:Items for this auction are located in Ames\, Iowa and at our yard in Clear Lake. \nConsignments wanted for upcoming foodservice auctions. Contact I-35 Auctions for details on where and when.
URL:https://i35auctions.com/event/restaurant-auction-ames/
CATEGORIES:Auction Live
ATTACH;FMTTYPE=image/png:https://i35auctions.com/wp-content/uploads/2024/12/Copy-of-Copy-of-Untitled-Design-1.png
END:VEVENT
BEGIN:VEVENT
DTSTART;TZID=America/Chicago:20250106T193500
DTEND;TZID=America/Chicago:20250106T205500
DTSTAMP:20260423T170815
CREATED:20241019T142514Z
LAST-MODIFIED:20241113T211535Z
UID:1315-1736192100-1736196900@i35auctions.com
SUMMARY:Tool Store Moving Sale (Central Iowa) - postponed
DESCRIPTION:Information coming soon – closing date pending \nNW Des Moines metro
URL:https://i35auctions.com/event/tool-store-moving-sale/
CATEGORIES:Auction Pending
END:VEVENT
BEGIN:VEVENT
DTSTART;TZID=America/Chicago:20241231T080000
DTEND;TZID=America/Chicago:20241231T170000
DTSTAMP:20260423T170815
CREATED:20240820T225612Z
LAST-MODIFIED:20240820T225612Z
UID:1268-1735632000-1735664400@i35auctions.com
SUMMARY:Tofte Firearms
DESCRIPTION:WE ARE 2A FRIENDLY! \nI-35 Auctions is the only auction house in North Iowa with an in-house FFL on staff. Make an appointment to drop off your firearms at our facility in Clear Lake\, Iowa or we will come to you. \n\nEstate guns collections\nCollectible weaponry\nAmmunition\nHunting items\n\nAuction Consignments Welcomed \nI-35 Auctions’ gun transfers are conducted under Tofte Firearms\, federal firearms license 5-42-06189 \nDATE NOT YET SCHEDULED \n 
URL:https://i35auctions.com/event/tofte-firearms-gun-consignments/
END:VEVENT
BEGIN:VEVENT
DTSTART;TZID=America/Chicago:20241226T200000
DTEND;TZID=America/Chicago:20241226T210000
DTSTAMP:20260423T170815
CREATED:20241127T211316Z
LAST-MODIFIED:20241213T215748Z
UID:1359-1735243200-1735246800@i35auctions.com
SUMMARY:December Equipment @ Clear Lake
DESCRIPTION:Online auction of new unused equipment\, including skid steer attachments\, storage containers and more.
URL:https://i35auctions.com/event/december-equipment-clear-lake/
CATEGORIES:Auction Live
ATTACH;FMTTYPE=image/jpeg:https://i35auctions.com/wp-content/uploads/2024/11/Screenshot-2024-11-27-at-3.29.26 PM.jpg
END:VEVENT
BEGIN:VEVENT
DTSTART;TZID=America/Chicago:20241219T183500
DTEND;TZID=America/Chicago:20241219T191500
DTSTAMP:20260423T170815
CREATED:20241209T184156Z
LAST-MODIFIED:20241219T144106Z
UID:1370-1734633300-1734635700@i35auctions.com
SUMMARY:County Line Sales - December Equipment Auction
DESCRIPTION:This is our December 2024 consignment auction in cooperation with County Line Sales of Austin\, Minn. \n 
URL:https://i35auctions.com/event/austin-december-2024-equipment/
CATEGORIES:Auction Live
ATTACH;FMTTYPE=image/png:https://i35auctions.com/wp-content/uploads/2024/12/Screen-Shot-2024-12-09-at-12.46.46-PM.png
END:VEVENT
BEGIN:VEVENT
DTSTART;TZID=America/Chicago:20241211T193500
DTEND;TZID=America/Chicago:20241211T210000
DTSTAMP:20260423T170815
CREATED:20241113T211420Z
LAST-MODIFIED:20241203T024028Z
UID:1353-1733945700-1733950800@i35auctions.com
SUMMARY:New Flooring Sale
DESCRIPTION:This auction is now live. Find great deals on flooring and wall tile for throughout your home or rental property.
URL:https://i35auctions.com/event/new-flooring-sale/
CATEGORIES:Auction Live
END:VEVENT
BEGIN:VEVENT
DTSTART;TZID=America/Chicago:20241203T193500
DTEND;TZID=America/Chicago:20241203T210000
DTSTAMP:20260423T170815
CREATED:20241107T015336Z
LAST-MODIFIED:20241203T024142Z
UID:1336-1733254500-1733259600@i35auctions.com
SUMMARY:Restaurant Closing Auction
DESCRIPTION:Save Big! Bank forced liquidation of former assets of a central Iowa restaurant – Several pieces new and unused\, still in their original packaging! \nOther consigned items include: \n\nwarmer/proofer\nheavy duty meat slicer\nstainless steel storage bins\ncooking pans\nbeverage dispensers\, etc\n\nItems may be viewed by appointment at our shop in Clear Lake. \nNeed to sell restaurant equipment? No one gets it done quicker than I-35 Auctions where “We Turn Assets Into Cash”
URL:https://i35auctions.com/event/iowa-restaurant-closing-auction/
CATEGORIES:Auction Live
ATTACH;FMTTYPE=image/png:https://i35auctions.com/wp-content/uploads/2024/11/Screen-Shot-2024-11-06-at-7.38.19-PM.png
END:VEVENT
BEGIN:VEVENT
DTSTART;TZID=America/Chicago:20241118T193500
DTEND;TZID=America/Chicago:20241118T210000
DTSTAMP:20260423T170815
CREATED:20241019T142945Z
LAST-MODIFIED:20241113T211147Z
UID:1318-1731958500-1731963600@i35auctions.com
SUMMARY:Manufacturer's Inventory Reduction (Grain Handling)
DESCRIPTION:Sheffield-based grain handling equipment manufacturer is disposing of the following inventory: \n\nelectric motors\nhydraulic power unit\nmechanical actuators in various sizes (Andco\, Duff-Norton\,\nshaft encoders\nmany solenoid valves (ASCO)\nSquare D limit switches\nhardware\nparts storage containers\nbreakroom items\n\n  \n  \n  \n 
URL:https://i35auctions.com/event/manufacturers-inventory-reduction-ia/
CATEGORIES:Auction Live
ATTACH;FMTTYPE=image/png:https://i35auctions.com/wp-content/uploads/2024/10/Screen-Shot-2024-11-06-at-8.04.45-PM.png
END:VEVENT
BEGIN:VEVENT
DTSTART;TZID=America/Chicago:20241111T193500
DTEND;TZID=America/Chicago:20241111T210000
DTSTAMP:20260423T170815
CREATED:20240926T160537Z
LAST-MODIFIED:20241103T234000Z
UID:1301-1731353700-1731358800@i35auctions.com
SUMMARY:November Consignments @ Clear Lake
DESCRIPTION:Bidding is now open for the November 2024 Consignment event at Clear Lake. \n\nantique car and buses\nshipping containers\nguns and ammo\ncoins\nfoodservice items\noffice furniture\netc…\n\n 
URL:https://i35auctions.com/event/clear-lake-fall-consignment-auction/
CATEGORIES:Auction Live
ATTACH;FMTTYPE=image/png:https://i35auctions.com/wp-content/uploads/2024/09/clear-lake-iowa-consignment-auction-nov-11th.png
END:VEVENT
BEGIN:VEVENT
DTSTART;TZID=America/Chicago:20241106T194000
DTEND;TZID=America/Chicago:20241106T203500
DTSTAMP:20260423T170815
CREATED:20240820T223040Z
LAST-MODIFIED:20241103T233641Z
UID:1261-1730922000-1730925300@i35auctions.com
SUMMARY:Southern MN Equipment - November '24 @ County Line Sales
DESCRIPTION:Mini excavators\, mini skid steers\, a 40HC multi door shipping container\, quality used woodworking equipment\, Allis Chalmers 180\, lawn mowers and more… \nFor questions about this auction\, call 507-444-1500. County Line Sales is conveniently located on a busy hard surface road between Austin and Albert Lea. \nOnline auction services conducted by I-35 Auctions\, MN lic.# 24-132
URL:https://i35auctions.com/event/southern-mn-equipment-county-line-austin/
CATEGORIES:Auction Live
ATTACH;FMTTYPE=image/png:https://i35auctions.com/wp-content/uploads/2024/08/southern-minnesota-online-auction-nov-2024-.png
END:VEVENT
BEGIN:VEVENT
DTSTART;TZID=America/Chicago:20241016T183500
DTEND;TZID=America/Chicago:20241016T203500
DTSTAMP:20260423T170815
CREATED:20240912T132935Z
LAST-MODIFIED:20241005T143928Z
UID:1294-1729103700-1729110900@i35auctions.com
SUMMARY:Industrial Surplus Blowout
DESCRIPTION:Large online auction with excess manufacturing items\, including material handling equipment\, overstock inventory for trucks and trailers\, and construction tools. Item pick up at multiple locations in north central Iowa. \nGarner\, Fertile\, Mason City\, Clear Lake \n 
URL:https://i35auctions.com/event/garner-iowa-manufacturing-auction/
CATEGORIES:Auction Live
END:VEVENT
BEGIN:VEVENT
DTSTART;TZID=America/Chicago:20241008T193500
DTEND;TZID=America/Chicago:20241008T210000
DTSTAMP:20260423T170815
CREATED:20240820T224803Z
LAST-MODIFIED:20240930T142104Z
UID:1266-1728416100-1728421200@i35auctions.com
SUMMARY:Factory Direct Outdoor Equipment @ Clear Lake
DESCRIPTION:New York Industrial\, Wolverine\, Greatbear and more! \nLot Categories: Attachments (34)\, Material Handling/Storage (17)\, Home Building Supplies/Material/Lumber (13)\, Heavy Equipment (11)\, Storage/Buildings (6)\, Construction Equipment (4)\, Snow Removal & Equipment (2)\, Fire/Rescue/Safety Equipment (1)
URL:https://i35auctions.com/event/outdoor-equipment-attachments/
CATEGORIES:Auction Live
ATTACH;FMTTYPE=image/png:https://i35auctions.com/wp-content/uploads/2024/08/CLEAR-LAKE-EQUIP-1.png
END:VEVENT
BEGIN:VEVENT
DTSTART;TZID=America/Chicago:20241001T193500
DTEND;TZID=America/Chicago:20241001T210000
DTSTAMP:20260423T170815
CREATED:20240825T163422Z
LAST-MODIFIED:20240914T173239Z
UID:1274-1727811300-1727816400@i35auctions.com
SUMMARY:Craftsman’s Workshop
DESCRIPTION:This will be a living estate auction for a Mower County area resident. \n\nJohn Deere lawn tractor\nDewalt miter saw\nLincoln stick welder\nLincoln wire feed welder\nCraftsman planer-moulder\nmilling machine\nbandsaw\nupright drill\nCraftsman jointer\nupright air compressor\nlarge meat smoker\nleaf blowers\nvarious trimmers\nchainsaw\nyard sprayers\ngarden tiller\nGenerator\nGarage heaters\nlots of garage items and woodworking tools\n\nAustin\, Minnesota \n  \n 
URL:https://i35auctions.com/event/austin-mn-living-estate-fall-2024/
CATEGORIES:Auction Live
ATTACH;FMTTYPE=image/png:https://i35auctions.com/wp-content/uploads/2024/08/Screenshot-2024-09-14-at-12.30.45 PM.png
END:VEVENT
BEGIN:VEVENT
DTSTART;TZID=America/Chicago:20240923T193500
DTEND;TZID=America/Chicago:20240923T200000
DTSTAMP:20260423T170815
CREATED:20240823T161055Z
LAST-MODIFIED:20240912T132134Z
UID:1271-1727120100-1727121600@i35auctions.com
SUMMARY:Industrial Surplus Auction - Franklin Co
DESCRIPTION:CTB Midwest has enlisted us to dispose of the following equipment thru online auction. This is a no reserve auction. \n\nused MIG\, TIG and stick welders (Lincoln\, Miller)\nnumerous steel parts containers\nheavy duty modular welding tables\nassorted shop safety items and supplies\n\nEmail or call with questions.
URL:https://i35auctions.com/event/shop-equipment-september/
CATEGORIES:Auction Live
ATTACH;FMTTYPE=image/png:https://i35auctions.com/wp-content/uploads/2024/08/26238986.png
END:VEVENT
BEGIN:VEVENT
DTSTART;TZID=America/Chicago:20240918T193500
DTEND;TZID=America/Chicago:20240918T203000
DTSTAMP:20260423T170815
CREATED:20240622T170742Z
LAST-MODIFIED:20240912T132504Z
UID:1220-1726688100-1726691400@i35auctions.com
SUMMARY:Southern MN Equipment - September '24 @ County Line Sales
DESCRIPTION:September’s online auction includes a large assortment of mini excavators\, stand on skid steers and attachments. Also some local consigned items. \nCounty Line Sales is conveniently located on a busy hard surface road between Austin and Albert Lea. \nOnline auction services conducted by I-35 Auctions\, MN lic.# 24-132
URL:https://i35auctions.com/event/county-line-equipment-auction-austin-mn/
CATEGORIES:Auction Live
ATTACH;FMTTYPE=image/png:https://i35auctions.com/wp-content/uploads/2024/04/COUNTY-LINE.png
END:VEVENT
BEGIN:VEVENT
DTSTART;TZID=America/Chicago:20240911T193500
DTEND;TZID=America/Chicago:20240911T204500
DTSTAMP:20260423T170815
CREATED:20240820T224549Z
LAST-MODIFIED:20240831T111608Z
UID:1263-1726083300-1726087500@i35auctions.com
SUMMARY:September Equipment - Clear Lake
DESCRIPTION:Selling two shipping containers and all the contents\, including: \n\nmini excavators\nskid steer loaders\nskid steer forks\ngolf cart\nhot water cleaning machine\nwrought iron site fences\ncrowd control barriers\nlocal consignments\n and more\n\nAll items located at I-35 Auctions\, just off I-35 in Clear Lake\, Iowa \n8 miles west of Mason City or 112 miles north of Des Moines
URL:https://i35auctions.com/event/september-equipment-clear-lake/
CATEGORIES:Auction Live
ATTACH;FMTTYPE=image/png:https://i35auctions.com/wp-content/uploads/2024/08/Screen-Shot-2024-08-30-at-8.50.55-AM.png
END:VEVENT
BEGIN:VEVENT
DTSTART;TZID=America/Chicago:20240828T193500
DTEND;TZID=America/Chicago:20240828T203000
DTSTAMP:20260423T170815
CREATED:20240820T222438Z
LAST-MODIFIED:20240820T224024Z
UID:1257-1724873700-1724877000@i35auctions.com
SUMMARY:Southern MN Equipment - August '24 @ County Line Sales
DESCRIPTION:Selling three shipping containers and all the contents\, including: \n\nmini excavators\nwheel loaders (gas and electric models)\nremote control lawn mowers\nexcavator augers\, buckets\, grapples\, rakes and rippers\nhydraulic thumb clips\nexcavator attachment mounted hedge trimmer\nmud buggies\njumping jack tamper\nvibratory plate compactor\nlaser level\nlocal consignments\n and more\n\nAll items located at the County Line Sales Yard\, between Austin and Albert Lea\, MN
URL:https://i35auctions.com/event/austin-albert-lea-mn-equipment-august-auction/
CATEGORIES:Auction Live
END:VEVENT
BEGIN:VEVENT
DTSTART;TZID=America/Chicago:20240821T195000
DTEND;TZID=America/Chicago:20240821T203000
DTSTAMP:20260423T170815
CREATED:20240815T142934Z
LAST-MODIFIED:20240820T223737Z
UID:1254-1724269800-1724272200@i35auctions.com
SUMMARY:AGT Equipment Auction
DESCRIPTION:Selling the shipping container and all the contents\, including: \n\nmini excavators\nstand on skid steers\nfork attachments\nmiscellaneous\n\nAll items located in Clear Lake\, IA
URL:https://i35auctions.com/event/agt-equipment-auction/
CATEGORIES:Auction Live
END:VEVENT
BEGIN:VEVENT
DTSTART;TZID=America/Chicago:20240813T194000
DTEND;TZID=America/Chicago:20240813T203000
DTSTAMP:20260423T170815
CREATED:20240718T191633Z
LAST-MODIFIED:20240730T211221Z
UID:1242-1723578000-1723581000@i35auctions.com
SUMMARY:Fabricators and Machinists Equipment
DESCRIPTION:material handling & vacuum lifting equipment\npowdercoating equipment\ncutting\, drilling and milling equipment\nindustrial bandsaws\ndust collection equipment\nassorted racks and carts
URL:https://i35auctions.com/event/metal-shop-excess-equipment/
CATEGORIES:Auction Live
ATTACH;FMTTYPE=image/png:https://i35auctions.com/wp-content/uploads/2024/07/Screenshot-2024-07-18-at-2.29.02-PM.png
END:VEVENT
BEGIN:VEVENT
DTSTART;TZID=America/Chicago:20240805T193500
DTEND;TZID=America/Chicago:20240805T203000
DTSTAMP:20260423T170815
CREATED:20240627T172754Z
LAST-MODIFIED:20240718T214324Z
UID:1226-1722886500-1722889800@i35auctions.com
SUMMARY:Commercial Foodservice Equipment
DESCRIPTION:Bidding is open now thru 8/5/24 for the restaurant and commercial foodservice equipment auction. All items are located at various locations in Clear Lake\, IA.
URL:https://i35auctions.com/event/restaurant-equipment/
CATEGORIES:Auction Live
ATTACH;FMTTYPE=image/jpeg:https://i35auctions.com/wp-content/uploads/2024/06/IMG_2407.jpg
END:VEVENT
BEGIN:VEVENT
DTSTART;TZID=America/Chicago:20240731T193500
DTEND;TZID=America/Chicago:20240731T201000
DTSTAMP:20260423T170815
CREATED:20240723T213444Z
LAST-MODIFIED:20240723T214013Z
UID:1248-1722454500-1722456600@i35auctions.com
SUMMARY:Tools / Vintage & Collectibles / Home & Seasonal Decor
DESCRIPTION:Multiple categories of consigned auction items to pick from. \n\ntools\, garage and home improvement items\nvintage and collectibles\, including toy cars\nhome decor and household items\n\nLocated at the I-35 Auctions warehouse in Clear Lake\, IA. \nAuction closes Wednesday\, July 31st.
URL:https://i35auctions.com/event/tools-vintage-collectibles-consignments/
CATEGORIES:Auction Live
ATTACH;FMTTYPE=image/png:https://i35auctions.com/wp-content/uploads/2024/07/Copy-of-CL-Equipment-Auction-.png
END:VEVENT
BEGIN:VEVENT
DTSTART;TZID=America/Chicago:20240729T195500
DTEND;TZID=America/Chicago:20240729T203000
DTSTAMP:20260423T170815
CREATED:20240718T155409Z
LAST-MODIFIED:20240718T155959Z
UID:1233-1722282900-1722285000@i35auctions.com
SUMMARY:MMS Industrial Landscaper's Equipment
DESCRIPTION:This auction is now live! All items located at I-35 Auctions in Clear Lake. \n\nmini excavators\nmotorized concrete buggy\nrc mower\ntracked skid steers\nmini wheel loader\ncontainers\nfencing\nexcavator buckets and more\n\n 
URL:https://i35auctions.com/event/landscaping-equipment-auction/
CATEGORIES:Auction Live
ATTACH;FMTTYPE=image/jpeg:https://i35auctions.com/wp-content/uploads/2024/07/IMG_2399.jpg
END:VEVENT
END:VCALENDAR