BEGIN:VCALENDAR
VERSION:2.0
PRODID:-//I-35 Auctions - ECPv6.15.20//NONSGML v1.0//EN
CALSCALE:GREGORIAN
METHOD:PUBLISH
X-WR-CALNAME:I-35 Auctions
X-ORIGINAL-URL:https://i35auctions.com
X-WR-CALDESC:Events for I-35 Auctions
REFRESH-INTERVAL;VALUE=DURATION:PT1H
X-Robots-Tag:noindex
X-PUBLISHED-TTL:PT1H
BEGIN:VTIMEZONE
TZID:America/Chicago
BEGIN:DAYLIGHT
TZOFFSETFROM:-0600
TZOFFSETTO:-0500
TZNAME:CDT
DTSTART:20230312T080000
END:DAYLIGHT
BEGIN:STANDARD
TZOFFSETFROM:-0500
TZOFFSETTO:-0600
TZNAME:CST
DTSTART:20231105T070000
END:STANDARD
BEGIN:DAYLIGHT
TZOFFSETFROM:-0600
TZOFFSETTO:-0500
TZNAME:CDT
DTSTART:20240310T080000
END:DAYLIGHT
BEGIN:STANDARD
TZOFFSETFROM:-0500
TZOFFSETTO:-0600
TZNAME:CST
DTSTART:20241103T070000
END:STANDARD
BEGIN:DAYLIGHT
TZOFFSETFROM:-0600
TZOFFSETTO:-0500
TZNAME:CDT
DTSTART:20250309T080000
END:DAYLIGHT
BEGIN:STANDARD
TZOFFSETFROM:-0500
TZOFFSETTO:-0600
TZNAME:CST
DTSTART:20251102T070000
END:STANDARD
END:VTIMEZONE
BEGIN:VEVENT
DTSTART;TZID=America/Chicago:20240304T193500
DTEND;TZID=America/Chicago:20240304T200000
DTSTAMP:20260425T073958
CREATED:20240220T211703Z
LAST-MODIFIED:20240220T214225Z
UID:744-1709580900-1709582400@i35auctions.com
SUMMARY:Commercial Restaurant Equipment Auction
DESCRIPTION:The following used commercial kitchen equipment is in stock now at our Clear Lake warehouse and will be sold to the highest bidder on March 4th. \n\nCadco UNOX convection oven\nWega Atlas EVD 2 Group espresso machine / coffee maker / barista\nJackson JP-24B dishwasher and Ecolab station\n\nDon’t miss this opportunity to save! Online bidding is so easy.
URL:https://i35auctions.com/event/commercial-restaurant-equipment/
CATEGORIES:Auction Live
ATTACH;FMTTYPE=image/jpeg:https://i35auctions.com/wp-content/uploads/2024/02/barista-coffee-cappacino.jpg
END:VEVENT
BEGIN:VEVENT
DTSTART;TZID=America/Chicago:20240312T193500
DTEND;TZID=America/Chicago:20240312T194500
DTSTAMP:20260425T073958
CREATED:20240225T131503Z
LAST-MODIFIED:20240307T132501Z
UID:811-1710272100-1710272700@i35auctions.com
SUMMARY:Pottery On The Plaza
DESCRIPTION:Bidding is now open for the Going-Out-Of-Business liquidation for Pottery on the Plaza in Mason City. \nClick the link below to access the auction.
URL:https://i35auctions.com/event/pottery-on-the-plaza/
CATEGORIES:Auction Live
ATTACH;FMTTYPE=image/png:https://i35auctions.com/wp-content/uploads/2024/02/Screen-Shot-2024-02-25-at-7.04.53-AM.png
END:VEVENT
BEGIN:VEVENT
DTSTART;TZID=America/Chicago:20240317T193500
DTEND;TZID=America/Chicago:20240317T204500
DTSTAMP:20260425T073958
CREATED:20240305T032758Z
LAST-MODIFIED:20240305T033417Z
UID:916-1710704100-1710708300@i35auctions.com
SUMMARY:March Consignments
DESCRIPTION:Bidding is now open for the March 2024 customer consignments online auction. \nClick the link below to access the auction.
URL:https://i35auctions.com/event/march-2024-consignments/
CATEGORIES:Auction Live
ATTACH;FMTTYPE=image/png:https://i35auctions.com/wp-content/uploads/2024/03/Screen-Shot-2024-03-04-at-9.21.47-PM.png
END:VEVENT
BEGIN:VEVENT
DTSTART;TZID=America/Chicago:20240318T193500
DTEND;TZID=America/Chicago:20240318T203000
DTSTAMP:20260425T073958
CREATED:20240220T215146Z
LAST-MODIFIED:20240319T000257Z
UID:764-1710790500-1710793800@i35auctions.com
SUMMARY:Pre-Demolition Auction / Garage To Be Moved + Construction Materials
DESCRIPTION:Two properties in Clear Lake are scheduled for demolition. Grab what you want while there’s still time. \n\nGarage built in 2017 to be moved\nConstruction materials\, cabinets and fixtures from within two homes\n\nThis is not a real estate auction. The items all have to be removed. \nClick the link below to access the auction.
URL:https://i35auctions.com/event/garage-materials-auction/
CATEGORIES:Auction Live
ATTACH;FMTTYPE=image/jpeg:https://i35auctions.com/wp-content/uploads/2024/02/garage-for-sale.jpeg
END:VEVENT
BEGIN:VEVENT
DTSTART;TZID=America/Chicago:20240325T193500
DTEND;TZID=America/Chicago:20240325T203000
DTSTAMP:20260425T073958
CREATED:20240220T213605Z
LAST-MODIFIED:20240307T133005Z
UID:754-1711395300-1711398600@i35auctions.com
SUMMARY:Wood Shop and Metalworking Power Equipment
DESCRIPTION:Mason City schools’ online auction of excess shop equipment. The welding program has gotten a big boost with brand new equipment! To make room\, excess metalworking and woodworking machinery must go.
URL:https://i35auctions.com/event/woodshop-metalworking/
CATEGORIES:Auction Live
ATTACH;FMTTYPE=image/png:https://i35auctions.com/wp-content/uploads/2024/02/Screenshot-2024-02-21-at-10.04.29-AM.png
END:VEVENT
BEGIN:VEVENT
DTSTART;TZID=America/Chicago:20240325T203500
DTEND;TZID=America/Chicago:20240325T210000
DTSTAMP:20260425T073958
CREATED:20240301T003712Z
LAST-MODIFIED:20240307T131747Z
UID:908-1711398900-1711400400@i35auctions.com
SUMMARY:Classic Car Up For Auction
DESCRIPTION:Flawless interior! This 1971 Mercury Monterey is ready for a Spring drive around the lake. Body is in good shape for its age. Showing 56k on the odometer. \nCheck it out on K-BID! Click the link below to access the auction.
URL:https://i35auctions.com/event/71-mercury-monterey/
CATEGORIES:Auction Live
ATTACH;FMTTYPE=image/jpeg:https://i35auctions.com/wp-content/uploads/2024/02/mercury-classic-car.jpeg
END:VEVENT
BEGIN:VEVENT
DTSTART;TZID=America/Chicago:20240326T203500
DTEND;TZID=America/Chicago:20240326T210500
DTSTAMP:20260425T073958
CREATED:20240311T162507Z
LAST-MODIFIED:20240313T124136Z
UID:1040-1711485300-1711487100@i35auctions.com
SUMMARY:Utility Tractor\, Case TR310 and Other Equipment
DESCRIPTION:Small farm or acreage? Need a skid steer or powerful utility tractor? Check out this auction in Thornton\, Iowa. It’s easy to bid wherever you are! \nHave farm equipment to sell? Contact Jon for details (641) 357-5417
URL:https://i35auctions.com/event/farm-equipment-thornton/
CATEGORIES:Auction Live
ATTACH;FMTTYPE=image/jpeg:https://i35auctions.com/wp-content/uploads/2024/03/IMG_9091.jpg
END:VEVENT
BEGIN:VEVENT
DTSTART;TZID=America/Chicago:20240327T193500
DTEND;TZID=America/Chicago:20240327T204500
DTSTAMP:20260425T073958
CREATED:20240305T035330Z
LAST-MODIFIED:20240313T121414Z
UID:924-1711568100-1711572300@i35auctions.com
SUMMARY:Spring Equipment and Attachments
DESCRIPTION:The next skid steer\, sea container and construction equipment auction is happening now
URL:https://i35auctions.com/event/truckload-savings-attachments/
CATEGORIES:Auction Live
ATTACH;FMTTYPE=image/png:https://i35auctions.com/wp-content/uploads/2024/03/Screen-Shot-2024-03-04-at-9.49.53-PM.png
END:VEVENT
END:VCALENDAR