BEGIN:VCALENDAR
VERSION:2.0
PRODID:-//I-35 Auctions - ECPv6.15.20//NONSGML v1.0//EN
CALSCALE:GREGORIAN
METHOD:PUBLISH
X-ORIGINAL-URL:https://i35auctions.com
X-WR-CALDESC:Events for I-35 Auctions
REFRESH-INTERVAL;VALUE=DURATION:PT1H
X-Robots-Tag:noindex
X-PUBLISHED-TTL:PT1H
BEGIN:VTIMEZONE
TZID:America/Chicago
BEGIN:DAYLIGHT
TZOFFSETFROM:-0600
TZOFFSETTO:-0500
TZNAME:CDT
DTSTART:20240310T080000
END:DAYLIGHT
BEGIN:STANDARD
TZOFFSETFROM:-0500
TZOFFSETTO:-0600
TZNAME:CST
DTSTART:20241103T070000
END:STANDARD
BEGIN:DAYLIGHT
TZOFFSETFROM:-0600
TZOFFSETTO:-0500
TZNAME:CDT
DTSTART:20250309T080000
END:DAYLIGHT
BEGIN:STANDARD
TZOFFSETFROM:-0500
TZOFFSETTO:-0600
TZNAME:CST
DTSTART:20251102T070000
END:STANDARD
BEGIN:DAYLIGHT
TZOFFSETFROM:-0600
TZOFFSETTO:-0500
TZNAME:CDT
DTSTART:20260308T080000
END:DAYLIGHT
BEGIN:STANDARD
TZOFFSETFROM:-0500
TZOFFSETTO:-0600
TZNAME:CST
DTSTART:20261101T070000
END:STANDARD
END:VTIMEZONE
BEGIN:VEVENT
DTSTART;TZID=America/Chicago:20250106T193500
DTEND;TZID=America/Chicago:20250106T205500
DTSTAMP:20260424T135306
CREATED:20241019T142514Z
LAST-MODIFIED:20241113T211535Z
UID:1315-1736192100-1736196900@i35auctions.com
SUMMARY:Tool Store Moving Sale (Central Iowa) - postponed
DESCRIPTION:Information coming soon – closing date pending \nNW Des Moines metro
URL:https://i35auctions.com/event/tool-store-moving-sale/
CATEGORIES:Auction Pending
END:VEVENT
BEGIN:VEVENT
DTSTART;TZID=America/Chicago:20250113T193500
DTEND;TZID=America/Chicago:20250113T202000
DTSTAMP:20260424T135306
CREATED:20241210T201745Z
LAST-MODIFIED:20250108T133906Z
UID:1374-1736796900-1736799600@i35auctions.com
SUMMARY:Restaurant Consignment Auction / Story & Cerro Gordo Cos
DESCRIPTION:Items for this auction are located in Ames\, Iowa and at our yard in Clear Lake. \nConsignments wanted for upcoming foodservice auctions. Contact I-35 Auctions for details on where and when.
URL:https://i35auctions.com/event/restaurant-auction-ames/
CATEGORIES:Auction Live
ATTACH;FMTTYPE=image/png:https://i35auctions.com/wp-content/uploads/2024/12/Copy-of-Copy-of-Untitled-Design-1.png
END:VEVENT
BEGIN:VEVENT
DTSTART;TZID=America/Chicago:20250121T200000
DTEND;TZID=America/Chicago:20250121T201500
DTSTAMP:20260424T135306
CREATED:20250108T132715Z
LAST-MODIFIED:20250108T132715Z
UID:1387-1737489600-1737490500@i35auctions.com
SUMMARY:W10x49 x 25’ Steel Beams
DESCRIPTION:This auction in Ankeny\, Iowa is for used steel I-beams left over from a shoring project. Please follow the link below to access bidding. \nwide flange beams \nW10x49
URL:https://i35auctions.com/event/ankeny-steel/
CATEGORIES:Auction Live
ATTACH;FMTTYPE=image/jpeg:https://i35auctions.com/wp-content/uploads/2025/01/27836996.jpg
END:VEVENT
BEGIN:VEVENT
DTSTART;TZID=America/Chicago:20250123T194000
DTEND;TZID=America/Chicago:20250123T203000
DTSTAMP:20260424T135306
CREATED:20250120T132327Z
LAST-MODIFIED:20250120T133107Z
UID:1409-1737661200-1737664200@i35auctions.com
SUMMARY:Big Discounts on Power Tools (and more)
DESCRIPTION:Auction closes January 23rd – Milwaukee\, Dewalt\, Delta \nPower tools\, hand tools\, countertop production tools \nRemoval Saturday morning
URL:https://i35auctions.com/event/power-tools-auction-january/
CATEGORIES:Auction Live
ATTACH;FMTTYPE=image/png:https://i35auctions.com/wp-content/uploads/2025/01/Screen-Shot-2025-01-20-at-7.17.07-AM.png
END:VEVENT
END:VCALENDAR