BEGIN:VCALENDAR
VERSION:2.0
PRODID:-//I-35 Auctions - ECPv6.15.20//NONSGML v1.0//EN
CALSCALE:GREGORIAN
METHOD:PUBLISH
X-ORIGINAL-URL:https://i35auctions.com
X-WR-CALDESC:Events for I-35 Auctions
REFRESH-INTERVAL;VALUE=DURATION:PT1H
X-Robots-Tag:noindex
X-PUBLISHED-TTL:PT1H
BEGIN:VTIMEZONE
TZID:America/Chicago
BEGIN:DAYLIGHT
TZOFFSETFROM:-0600
TZOFFSETTO:-0500
TZNAME:CDT
DTSTART:20240310T080000
END:DAYLIGHT
BEGIN:STANDARD
TZOFFSETFROM:-0500
TZOFFSETTO:-0600
TZNAME:CST
DTSTART:20241103T070000
END:STANDARD
BEGIN:DAYLIGHT
TZOFFSETFROM:-0600
TZOFFSETTO:-0500
TZNAME:CDT
DTSTART:20250309T080000
END:DAYLIGHT
BEGIN:STANDARD
TZOFFSETFROM:-0500
TZOFFSETTO:-0600
TZNAME:CST
DTSTART:20251102T070000
END:STANDARD
BEGIN:DAYLIGHT
TZOFFSETFROM:-0600
TZOFFSETTO:-0500
TZNAME:CDT
DTSTART:20260308T080000
END:DAYLIGHT
BEGIN:STANDARD
TZOFFSETFROM:-0500
TZOFFSETTO:-0600
TZNAME:CST
DTSTART:20261101T070000
END:STANDARD
END:VTIMEZONE
BEGIN:VEVENT
DTSTART;TZID=America/Chicago:20250601T193500
DTEND;TZID=America/Chicago:20250601T210000
DTSTAMP:20260424T044847
CREATED:20250527T205800Z
LAST-MODIFIED:20250527T205836Z
UID:1472-1748806500-1748811600@i35auctions.com
SUMMARY:Contractor Equipment & Tool Auction - Des Moines
DESCRIPTION:Contractor retirement and also items from an equipment rental company wrapped into one. \nInspection by appointment \nNW metro
URL:https://i35auctions.com/event/contractor-equipment-tool-auction-des-moines/
CATEGORIES:Auction Live
END:VEVENT
BEGIN:VEVENT
DTSTART;TZID=America/Chicago:20250604T193500
DTEND;TZID=America/Chicago:20250604T210000
DTSTAMP:20260424T044847
CREATED:20250527T210315Z
LAST-MODIFIED:20250527T210407Z
UID:1476-1749065700-1749070800@i35auctions.com
SUMMARY:Wolverine/LandHonor Auction
DESCRIPTION:Listing coming soon \nOnline bidding begins May 28th
URL:https://i35auctions.com/event/wolverine-landhonor-auction/
CATEGORIES:Auction Pending
END:VEVENT
BEGIN:VEVENT
DTSTART;TZID=America/Chicago:20250611T193500
DTEND;TZID=America/Chicago:20250611T203000
DTSTAMP:20260424T044847
CREATED:20250605T165824Z
LAST-MODIFIED:20250605T170352Z
UID:1486-1749670500-1749673800@i35auctions.com
SUMMARY:All Remaining Inventory of Wolverine and Landhonor Attachments
DESCRIPTION:Attachments\, motorized equipment and more \nTHIS APPEARS TO BE THE LAST LOAD FOR AWHILE \nLocal consignments\, too.
URL:https://i35auctions.com/event/wolverine-landhonor-attachments/
CATEGORIES:Auction Live
ATTACH;FMTTYPE=image/png:https://i35auctions.com/wp-content/uploads/2025/06/Screenshot-2025-06-05-at-12.01.24 PM.png
END:VEVENT
BEGIN:VEVENT
DTSTART;TZID=America/Chicago:20250618T194500
DTEND;TZID=America/Chicago:20250618T210000
DTSTAMP:20260424T044847
CREATED:20250527T210153Z
LAST-MODIFIED:20250605T163730Z
UID:1474-1750275900-1750280400@i35auctions.com
SUMMARY:Facilities Maintenance and Transportation Surplus
DESCRIPTION:North Iowa Area Community College (NIACC) and two local school districts are selling assorted items at auction. Click below to access the auction and start bidding. \nPlease plan to attend the inspection date and two-day removal (dates on the site).
URL:https://i35auctions.com/event/school-surplus-auction/
CATEGORIES:Auction Live
ATTACH;FMTTYPE=image/png:https://i35auctions.com/wp-content/uploads/2025/05/NIACC-auction-Instagram-Post-1.png
END:VEVENT
END:VCALENDAR