BEGIN:VCALENDAR
VERSION:2.0
PRODID:-//I-35 Auctions - ECPv6.15.20//NONSGML v1.0//EN
CALSCALE:GREGORIAN
METHOD:PUBLISH
X-WR-CALNAME:I-35 Auctions
X-ORIGINAL-URL:https://i35auctions.com
X-WR-CALDESC:Events for I-35 Auctions
REFRESH-INTERVAL;VALUE=DURATION:PT1H
X-Robots-Tag:noindex
X-PUBLISHED-TTL:PT1H
BEGIN:VTIMEZONE
TZID:America/Chicago
BEGIN:DAYLIGHT
TZOFFSETFROM:-0600
TZOFFSETTO:-0500
TZNAME:CDT
DTSTART:20230312T080000
END:DAYLIGHT
BEGIN:STANDARD
TZOFFSETFROM:-0500
TZOFFSETTO:-0600
TZNAME:CST
DTSTART:20231105T070000
END:STANDARD
BEGIN:DAYLIGHT
TZOFFSETFROM:-0600
TZOFFSETTO:-0500
TZNAME:CDT
DTSTART:20240310T080000
END:DAYLIGHT
BEGIN:STANDARD
TZOFFSETFROM:-0500
TZOFFSETTO:-0600
TZNAME:CST
DTSTART:20241103T070000
END:STANDARD
BEGIN:DAYLIGHT
TZOFFSETFROM:-0600
TZOFFSETTO:-0500
TZNAME:CDT
DTSTART:20250309T080000
END:DAYLIGHT
BEGIN:STANDARD
TZOFFSETFROM:-0500
TZOFFSETTO:-0600
TZNAME:CST
DTSTART:20251102T070000
END:STANDARD
END:VTIMEZONE
BEGIN:VEVENT
DTSTART;TZID=America/Chicago:20240417T193500
DTEND;TZID=America/Chicago:20240417T203500
DTSTAMP:20260425T080946
CREATED:20240403T142615Z
LAST-MODIFIED:20240412T113755Z
UID:1138-1713382500-1713386100@i35auctions.com
SUMMARY:Tool and Equipment Auction | Construction Items - Clear Lake\, IA
DESCRIPTION:This online auction will include both new and used equipment and tool items. Items up for bid include: \n\nmini skid steer\nsea containers\ntrenchers\nbrush cutters\ntillers\npost hole augers\nGMC truck bed\nvarious saws\nsnapping turtle trap\nsupplies to set up a large aquarium\nCraftsman\, Stanley and DeWalt tools\nwood bandsaw\ncontractor’s table saw\, almost like new!\nrouters\nheaters\nwood clamps\nplumbing\nhardwood trim\ngarage doors and more!!\n\nShipping available for most items. We hope to see you at pickup at our location in Clear Lake\, Iowa. See you soon!
URL:https://i35auctions.com/event/construction-equipment-power-tools/
CATEGORIES:Auction Live
END:VEVENT
END:VCALENDAR